BEGIN:VCALENDAR
VERSION:2.0
PRODID:-//Mulligans On The Blue - ECPv6.15.20//NONSGML v1.0//EN
CALSCALE:GREGORIAN
METHOD:PUBLISH
X-ORIGINAL-URL:https://mulligansontheblue.com
X-WR-CALDESC:Events for Mulligans On The Blue
REFRESH-INTERVAL;VALUE=DURATION:PT1H
X-Robots-Tag:noindex
X-PUBLISHED-TTL:PT1H
BEGIN:VTIMEZONE
TZID:Pacific/Honolulu
BEGIN:STANDARD
TZOFFSETFROM:-1000
TZOFFSETTO:-1000
TZNAME:HST
DTSTART:20240101T000000
END:STANDARD
END:VTIMEZONE
BEGIN:VEVENT
DTSTART;TZID=Pacific/Honolulu:20251108T180000
DTEND;TZID=Pacific/Honolulu:20251108T200000
DTSTAMP:20260423T210426
CREATED:20251016T031447Z
LAST-MODIFIED:20251016T031450Z
UID:6394-1762624800-1762632000@mulligansontheblue.com
SUMMARY:Jamie Lawrence
DESCRIPTION:Jamie Lawrence\nMulligans On The Blue is thrilled to welcome Jamie Lawrence back to the Mulligans Music Box stage on Saturday\, November 8th\, from 6-8pm. Jamie Lawrence was born on Maui and has been entertaining the island for over 40 years with his magical voice and beautiful guitar playing.\nJamie has recorded several albums and has performed with many of Hawaiiʻs great entertainers\, including his good friend Kealiʻi Reichel\, performing together at the Maui Lu in the 80s. Kealiʻi went on to record some of Hawaiiʻs greatest albums\, each of which Jamie was honored to participate in. Aside from Jamie’s incredible music\, he is also a talented helicopter pilot.\nDinner seating starts at 5:00pm and music begins at 6:00pm. Table reservations are recommended!\n*There are a limited number of tables in the music box that are ADA / wheelchair accessible. They are available on a first come first served basis by anyone. Should there be a need to move guests to make room for someone with a wheelchair\, management may ask to move a patron to accommodate said guest. \n			\n				Make Reservations\n			\n				All Shows & Events
URL:https://mulligansontheblue.com/event/jamie-lawrence-2/
LOCATION:Mulligans On The Blue\, 100 Kaukahi St.\, Kihei\, HI\, 96753\, United States
ATTACH;FMTTYPE=image/jpeg:https://mulligansontheblue.com/wp-content/uploads/2025/10/11.08.25-jamieL600.jpg
END:VEVENT
END:VCALENDAR