BEGIN:VCALENDAR
VERSION:2.0
PRODID:-//Mulligans On The Blue - ECPv6.15.20//NONSGML v1.0//EN
CALSCALE:GREGORIAN
METHOD:PUBLISH
X-WR-CALNAME:Mulligans On The Blue
X-ORIGINAL-URL:https://mulligansontheblue.com
X-WR-CALDESC:Events for Mulligans On The Blue
REFRESH-INTERVAL;VALUE=DURATION:PT1H
X-Robots-Tag:noindex
X-PUBLISHED-TTL:PT1H
BEGIN:VTIMEZONE
TZID:Pacific/Honolulu
BEGIN:STANDARD
TZOFFSETFROM:-1000
TZOFFSETTO:-1000
TZNAME:HST
DTSTART:20250101T000000
END:STANDARD
END:VTIMEZONE
BEGIN:VEVENT
DTSTART;TZID=Pacific/Honolulu:20260317T110000
DTEND;TZID=Pacific/Honolulu:20260317T220000
DTSTAMP:20260423T075525
CREATED:20260305T183506Z
LAST-MODIFIED:20260307T161349Z
UID:6882-1773745200-1773784800@mulligansontheblue.com
SUMMARY:St Paddy's Day 2026 - Mulligans on The Blue
DESCRIPTION:Mulligans on the Blue Presents St Paddy’s Day 2026!\nJoin us on Tuesday\, March 17th\, for an amazing lineup of music\, Irish food\, contests\, family fun\, and more.\nDetailsDOORS OPEN 11amNO COVER BEFORE 12PMADMISSION IS $20 in advance\, $25 AT DOORFREE T-SHIRT for the FIRST 100 PAYING CUSTOMERSMAKE YOUR RESERVATION ON OPEN TABLE FOR $20 ADMISSION!\nCome ready for fun!BEST LEPRECHAUN COMPETITIONBEST HAT COMPETITIONBEST GREEN OUTFITALL IRISH FOOD\nSt. Patty’s Day Entertainment Line-Up12PM-2PM | CELTIC HEARTSFrom Oahu Traditional Irish Music Band2PM | PETE SEBASTIAN TRIO3PM | DIVIDED BY 2U2 Tribute4PM-7 PM | THE CELTIC TIGERS7.30-10PM | THE ROUNDABOUTS\nMAKE YOUR RESERVATION ON OPEN TABLE FOR $20 ADMISSION!\n\n			\n				Reservations Here\n			\n			\n				\n				\n				\n				\n			\n				\n				\n				\n				\n				\n				\n				All Shows & Events
URL:https://mulligansontheblue.com/event/st-paddys-day-2026-mulligans-on-the-blue/
LOCATION:HI
CATEGORIES:Live Music
ATTACH;FMTTYPE=image/jpeg:https://mulligansontheblue.com/wp-content/uploads/2026/03/PaddysDaySqr600.jpg
END:VEVENT
END:VCALENDAR