BEGIN:VCALENDAR
VERSION:2.0
PRODID:-//Mulligans On The Blue - ECPv6.15.20//NONSGML v1.0//EN
CALSCALE:GREGORIAN
METHOD:PUBLISH
X-WR-CALNAME:Mulligans On The Blue
X-ORIGINAL-URL:https://mulligansontheblue.com
X-WR-CALDESC:Events for Mulligans On The Blue
REFRESH-INTERVAL;VALUE=DURATION:PT1H
X-Robots-Tag:noindex
X-PUBLISHED-TTL:PT1H
BEGIN:VTIMEZONE
TZID:Pacific/Honolulu
BEGIN:STANDARD
TZOFFSETFROM:-1000
TZOFFSETTO:-1000
TZNAME:HST
DTSTART:20240101T000000
END:STANDARD
END:VTIMEZONE
BEGIN:VEVENT
DTSTART;TZID=Pacific/Honolulu:20251219T180000
DTEND;TZID=Pacific/Honolulu:20251219T200000
DTSTAMP:20260425T032636
CREATED:20250407T171223Z
LAST-MODIFIED:20251212T133344Z
UID:5445-1766167200-1766174400@mulligansontheblue.com
SUMMARY:Willy Wainwright - Violin Virtuoso
DESCRIPTION:Willy Wainwright Violin Virtuoso\nWe are thrilled to welcome World-Class Violinist\, Willy Wainwright\, back to the Mulligans Music Box from 6-8pm! Join us for dinner\, sunset\, and world-class music.\nWilly is a violinist who began playing the violin as a child in Chicago\, Illinois. He is an accomplished musician and charismatic performer whose has mastered many styles throughout the years including classical\, country\, bluegrass\, jazz and Irish. He has performed and toured with internationally known artists. Career highlights include performing shows at the White House\, Grand Ol’ Opry\, The Johnny Carson Show\, The Tonight Show with Jay Leno and Farm Aid. Willy also plays in the groups ‘Weatherly-Wainwright’ with his wife Jennifer Weatherly and the Maui based Gypsy Jazz group\, Gypsy Pacific. He has also released solo albums that feature many of his personal favorites.\nDinner seating starts at 5:00pm and music begins at 6:00pm. Table reservations are recommended!\n*There are a limited number of tables in the music box that are ADA / wheelchair accessible. They are available on a first come first served basis by anyone. Should there be a need to move guests to make room for someone with a wheelchair\, management may ask to move a patron to accommodate said guest. \n			\n				Make Reservations\n			\n				All Shows & Events
URL:https://mulligansontheblue.com/event/willy-wainwright-5/
LOCATION:Mulligans On The Blue\, 100 Kaukahi St.\, Kihei\, HI\, 96753\, United States
CATEGORIES:Live Music
ATTACH;FMTTYPE=image/jpeg:https://mulligansontheblue.com/wp-content/uploads/2025/10/WillyWainwrightSqrMCOC-web.jpg
END:VEVENT
BEGIN:VEVENT
DTSTART;TZID=Pacific/Honolulu:20251227T193000
DTEND;TZID=Pacific/Honolulu:20251227T220000
DTSTAMP:20260425T032636
CREATED:20251120T203509Z
LAST-MODIFIED:20251218T141424Z
UID:6521-1766863800-1766872800@mulligansontheblue.com
SUMMARY:JMoCO - Justin Morris and Company Live with Visual Experience
DESCRIPTION:AG Presents is excited to bring you the return of Justin Morris and Company with Visual experience from Astral Projections on December 27th!\n			\n			\n				\n				\n				\n				\n			\n				\n				\n				\n				\n				\n				\n				\n				\n				\n				\n				TICKETS ON SALE Monday\, November 24 at 7am\nAG Presents is bringing the JMoCo experience to Mulligans On The Blue in Wailea\, on the last Saturday of 2025! There are new songs and arrangements\, as well as the return of Visual Artist\, Markus Künzal from Astral Projections\, the mastermind behind Art=Mixx and FuzzBox visuals\, with a special visual showcase. PLUS Jammin on Maui will be lighting up the room! Good friend Lo Wolf is playing in between sets; she may even join JMoCo for a song or two. Buckle up and let’s go for a ride!\n20 Limited Early Bird Tickets at $2025 Limited Early Bird Tickets at $25General Tickets are $30Day of Show Tickets are $35\nDoors Open at 6:30pmShow Starts at 7:30pm\nSeating is first-come\, first-served.Your ticket does not guarantee a seat.All sales final – rain or shine.\n			\n				Buy Tickets\n			\n			\n				\n				\n				\n				\n				\n				\n				\n				\n				\n				\n				\n			\n			\n				\n				\n				\n				\n			\n				\n				\n				\n				\n				\n				\n				\n				\n				\n				\n				ABOUT JUSTIN MORRIS & COMPANY\nJMoCo’s sound is a mix of vintage tone\, psychedelic jams\, heavy hooks\, group harmonies\, and rock-n-roll revival\, a sound we call “Stardust Revival”. You can find JMoCo’s roots growing deep in the musical vocabulary of influential guitar legends such as Warren Haynes\, Tony Iommi\, and Billy Gibbons.\nJustin Morris & Company\, also known as JMoCo\, is the sonic brainchild of Maui musician and songwriter; Justin Morris. Born and raised in the Appalachian Mountains of Southern West Virginia\, Justin Morris is a national touring artist that focuses his energy on original music. He is known for his deep vocals\, crafty guitar playing\, and authentic tone. The music of JMoCo is grounded in Justin’s free-spirited song writing style and imaginative perspective.\nThe foundation of JMoCo is built on a powerhouse tribe of like-minded musicians. Hard-hitting drummer Steve Morris can only be compared to a thundering herd of rhinos on the kit. Bassist Pato Z brings a fluid world style that keeps the grooves (and the audience) dancing. Vocalist and organist Natalie Nicole Robles will have you feeling the gospel with her soulful vocals. Percussionist Lopaka Colon\, brings a contagious energy to every stage he is on. Each band member comes from a different school of music\, yet effortlessly all flow as one\, collectively making Justin Morris & Company a deep well of driving creativity. We are also now featuring visual artists Markus Kunzel who will be putting on an amazing light/visual show.\nABOUT LO WOLF\nSultry\, soulful and honest in her craft\, music is where she comes most alive. Her music shifts into a new element of combining soul and hints of rock’n’roll. She is always letting the inspiration remain fresh and doesn’t confine to a certain genre.\n			\n				Buy Tickets\n			\n				All Shows & Events
URL:https://mulligansontheblue.com/event/jmoco-dec-27-2025/
LOCATION:Mulligans On The Blue\, 100 Kaukahi St.\, Kihei\, HI\, 96753\, United States
CATEGORIES:Live Music
ATTACH;FMTTYPE=image/jpeg:https://mulligansontheblue.com/wp-content/uploads/2025/11/JMoCo_12.27Square600-1.jpg
END:VEVENT
END:VCALENDAR