BEGIN:VCALENDAR
VERSION:2.0
PRODID:-//Mulligans On The Blue - ECPv6.15.20//NONSGML v1.0//EN
CALSCALE:GREGORIAN
METHOD:PUBLISH
X-ORIGINAL-URL:https://mulligansontheblue.com
X-WR-CALDESC:Events for Mulligans On The Blue
REFRESH-INTERVAL;VALUE=DURATION:PT1H
X-Robots-Tag:noindex
X-PUBLISHED-TTL:PT1H
BEGIN:VTIMEZONE
TZID:Pacific/Honolulu
BEGIN:STANDARD
TZOFFSETFROM:-1000
TZOFFSETTO:-1000
TZNAME:HST
DTSTART:20250101T000000
END:STANDARD
END:VTIMEZONE
BEGIN:VEVENT
DTSTART;TZID=Pacific/Honolulu:20260130T180000
DTEND;TZID=Pacific/Honolulu:20260130T200000
DTSTAMP:20260424T174207
CREATED:20251015T004835Z
LAST-MODIFIED:20251222T173919Z
UID:6381-1769796000-1769803200@mulligansontheblue.com
SUMMARY:Christina "Sweet Beets" Boyden
DESCRIPTION:Christina “Sweet Beets” Boyden\nJoin us for sunset\, dinner\, and live music with Sweet Beets from 6-8pm! Christina “Sweet Beets” Boyden is known for her sweet\, poignant\, and heartfelt lyrics\, which are enriched by thoughtful and unforgettable melodies.\nSweet Beets launched her musical career as a DJ in Southern California. In more recent years\, she has performed as a resident DJ for Starborne Productions in Seattle\, WA\, and Tasty Pie Productions in Maui\, HI. Shortly after moving to Maui\, she felt inspired by her new island lifestyle to begin writing original acoustic music\, which has now led her on a whole new creative endeavor and has recently released her first full-length album\, “Sweet Aloha” featuring acclaimed musicians Barry Sless (Phil Lesh & Friends/Dave Nelson Band)\, Pete Sears (Jefferson Starship/Dave Nelson Band)\, John Molo (Bruce Hornsby/Dave Nelson Band)\, and Mookie Siegel (Phil Lesh & Friends/Dave Nelson Band).\nDinner seating begins at 5:00pm and music starts at 6:00pm. Table reservations are recommended!\n*There are a limited number of tables in the music box that are ADA / wheelchair accessible. They are available on a first come first served basis by anyone. Should there be a need to move guests to make room for someone with a wheelchair\, management may ask to move a patron to accommodate said guest. \n			\n				Open Table\n			\n				All Shows & Events
URL:https://mulligansontheblue.com/event/christina-sweet-beets-boyden-2/
LOCATION:Mulligans On The Blue\, 100 Kaukahi St.\, Kihei\, HI\, 96753\, United States
CATEGORIES:Live Music
ATTACH;FMTTYPE=image/png:https://mulligansontheblue.com/wp-content/uploads/2025/09/Sweet_Beets_web.png
END:VEVENT
END:VCALENDAR