BEGIN:VCALENDAR
VERSION:2.0
PRODID:-//Mulligans On The Blue - ECPv6.15.20//NONSGML v1.0//EN
CALSCALE:GREGORIAN
METHOD:PUBLISH
X-WR-CALNAME:Mulligans On The Blue
X-ORIGINAL-URL:https://mulligansontheblue.com
X-WR-CALDESC:Events for Mulligans On The Blue
REFRESH-INTERVAL;VALUE=DURATION:PT1H
X-Robots-Tag:noindex
X-PUBLISHED-TTL:PT1H
BEGIN:VTIMEZONE
TZID:Pacific/Honolulu
BEGIN:STANDARD
TZOFFSETFROM:-1000
TZOFFSETTO:-1000
TZNAME:HST
DTSTART:20250101T000000
END:STANDARD
END:VTIMEZONE
BEGIN:VEVENT
DTSTART;TZID=Pacific/Honolulu:20260306T180000
DTEND;TZID=Pacific/Honolulu:20260306T200000
DTSTAMP:20260425T180328
CREATED:20260223T054704Z
LAST-MODIFIED:20260303T004826Z
UID:6859-1772820000-1772827200@mulligansontheblue.com
SUMMARY:Cheryl Rae
DESCRIPTION:Cheryl Rae & Steve Grimes\n \nSinger\, songwriter\, and performer Cheryl Rae has been performing for over 25 years and has shared the stage with and opened for Kris Kristofferson\, Willie Nelson\, Mick Fleetwood\, Henry Kapono\, and many other talented and incredible musicians.\nThe $5 cover supports live music.\nReservations are recommended!\n			\n				MAKE RESERVATION\n			\n				All Shows & Events
URL:https://mulligansontheblue.com/event/cheryl-rae-steve-grimes/
LOCATION:Mulligans On The Blue\, 100 Kaukahi St.\, Kihei\, HI\, 96753\, United States
CATEGORIES:Live Music
ATTACH;FMTTYPE=image/jpeg:https://mulligansontheblue.com/wp-content/uploads/2026/02/Cheryl_Steve600-1.jpg
END:VEVENT
END:VCALENDAR