BEGIN:VCALENDAR
VERSION:2.0
PRODID:-//Mulligans On The Blue - ECPv6.15.20//NONSGML v1.0//EN
CALSCALE:GREGORIAN
METHOD:PUBLISH
X-ORIGINAL-URL:https://mulligansontheblue.com
X-WR-CALDESC:Events for Mulligans On The Blue
REFRESH-INTERVAL;VALUE=DURATION:PT1H
X-Robots-Tag:noindex
X-PUBLISHED-TTL:PT1H
BEGIN:VTIMEZONE
TZID:Pacific/Honolulu
BEGIN:STANDARD
TZOFFSETFROM:-1000
TZOFFSETTO:-1000
TZNAME:HST
DTSTART:20250101T000000
END:STANDARD
END:VTIMEZONE
BEGIN:VEVENT
DTSTART;TZID=Pacific/Honolulu:20260502T170000
DTEND;TZID=Pacific/Honolulu:20260502T220000
DTSTAMP:20260425T064056
CREATED:20260403T013452Z
LAST-MODIFIED:20260425T005956Z
UID:7001-1777741200-1777759200@mulligansontheblue.com
SUMMARY:Mulligans 25 Year Anniversary Party - With the Original Celtic Tigers
DESCRIPTION:Mulligans 25 Year Anniversary “Last Hurrah” Party with the Original Celtic Tigers\nMulligans Last Hurrah – 25 Year Anniversary Party featuring the return of the original Celtic Tigers\, featuring Kevin O’Kennedy. Don’t miss this one as it may be the last. Come celebrate 25 years of Irish Aloha!\nDoors open at 4pmMusical LineupPete Sebastian Trio – 5:00pm to 6:00pmThe Original Celtic Tigers – 6:30pm to 9:30pmThe Roundabouts – 10pm to Close\nTickets are $25 with an OpenTable reservation OR $30 at the Door.$25 – Full Irish Dinner Buffet$25 – Five Any Kine Drink Tickets$25 – Keepsake T-Shirt\n*There are a limited number of tables in the music box that are ADA / wheelchair accessible. They are available on a first come first served basis by anyone. Should there be a need to move guests to make room for someone with a wheelchair\, management may ask to move a patron to accommodate said guest. \n			\n				Make Reservations\n			\n				All Shows & Events
URL:https://mulligansontheblue.com/event/mulligans-mulligans-25-year-anniversary-party-with-the-original-celtic-tigers/
LOCATION:Mulligans On The Blue\, 100 Kaukahi St.\, Kihei\, HI\, 96753\, United States
CATEGORIES:Live Music
ATTACH;FMTTYPE=image/jpeg:https://mulligansontheblue.com/wp-content/uploads/2026/04/MulligansLastHurrah_Sqr600.jpg
END:VEVENT
BEGIN:VEVENT
DTSTART;TZID=Pacific/Honolulu:20260503T170000
DTEND;TZID=Pacific/Honolulu:20260503T200000
DTSTAMP:20260425T064056
CREATED:20251103T152126Z
LAST-MODIFIED:20260423T133715Z
UID:6444-1777827600-1777838400@mulligansontheblue.com
SUMMARY:Island Soul Band
DESCRIPTION:Maui’s Favorite Dance Band\nJoin us on Sundays from 5-8pm for Maui’s soul\, funk\, & rock dance band\, Island Soul. Each Sunday features a different singer that the band enjoys performing with. Playing hits from the 80s till now the dance floor is open. The $5 cover supports live music.\nReservations are recommended!\n			\n				Reserve Table Here\n			\n				All Shows & Events
URL:https://mulligansontheblue.com/event/island-soul-band-98/
LOCATION:Mulligans On The Blue\, 100 Kaukahi St.\, Kihei\, HI\, 96753\, United States
CATEGORIES:Live Music
ATTACH;FMTTYPE=image/jpeg:https://mulligansontheblue.com/wp-content/uploads/2025/10/Island_Soul_Bands_FB_8_23_2025_600x600_web.jpg
END:VEVENT
BEGIN:VEVENT
DTSTART;TZID=Pacific/Honolulu:20260510T170000
DTEND;TZID=Pacific/Honolulu:20260510T200000
DTSTAMP:20260425T064056
CREATED:20251013T195029Z
LAST-MODIFIED:20260423T133756Z
UID:6360-1778432400-1778443200@mulligansontheblue.com
SUMMARY:Island Soul Band
DESCRIPTION:Maui’s Favorite Dance Band\nJoin us on Sundays from 5-8pm for Maui’s soul\, funk\, & rock dance band\, Island Soul. Each Sunday features a different singer that the band enjoys performing with. Playing hits from the 80s till now the dance floor is open. The $5 cover supports live music.\nReservations are recommended!\n			\n				Reserve Table Here\n			\n				All Shows & Events
URL:https://mulligansontheblue.com/event/island-soul-band-95/
LOCATION:Mulligans On The Blue\, 100 Kaukahi St.\, Kihei\, HI\, 96753\, United States
CATEGORIES:Live Music
ATTACH;FMTTYPE=image/jpeg:https://mulligansontheblue.com/wp-content/uploads/2025/10/Island-Soul-PC-Bruce-Forrester-April-21-2025-1_sqr_600x600.jpg
END:VEVENT
BEGIN:VEVENT
DTSTART;TZID=Pacific/Honolulu:20260524T170000
DTEND;TZID=Pacific/Honolulu:20260524T200000
DTSTAMP:20260425T064056
CREATED:20251013T194738Z
LAST-MODIFIED:20260423T133900Z
UID:6353-1779642000-1779652800@mulligansontheblue.com
SUMMARY:Island Soul Band
DESCRIPTION:Maui’s Favorite Dance Band\nJoin us on Sundays from 5-8pm for Maui’s soul\, funk\, & rock dance band\, Island Soul. Each Sunday features a different singer that the band enjoys performing with. Playing hits from the 80s till now the dance floor is open. The $5 cover supports live music.\nReservations are recommended!\n			\n				Reserve Table Here\n			\n				All Shows & Events
URL:https://mulligansontheblue.com/event/island-soul-band-94/
LOCATION:Mulligans On The Blue\, 100 Kaukahi St.\, Kihei\, HI\, 96753\, United States
CATEGORIES:Live Music
ATTACH;FMTTYPE=image/jpeg:https://mulligansontheblue.com/wp-content/uploads/2025/10/Island-Soul-PC-Bruce-Forrester-April-21-2025-sqr_2-600x600-1.jpg
END:VEVENT
BEGIN:VEVENT
DTSTART;TZID=Pacific/Honolulu:20260531T170000
DTEND;TZID=Pacific/Honolulu:20260531T200000
DTSTAMP:20260425T064056
CREATED:20251103T152611Z
LAST-MODIFIED:20260423T133948Z
UID:6455-1780246800-1780257600@mulligansontheblue.com
SUMMARY:Island Soul Band
DESCRIPTION:Maui’s Favorite Dance Band\nJoin us on Sundays from 5-8pm for Maui’s soul\, funk\, & rock dance band\, Island Soul. Each Sunday features a different singer that the band enjoys performing with. Playing hits from the 80s till now the dance floor is open. The $5 cover supports live music.\nReservations are recommended!\n			\n				Reserve Table Here\n			\n				All Shows & Events
URL:https://mulligansontheblue.com/event/island-soul-band-100/
LOCATION:Mulligans On The Blue\, 100 Kaukahi St.\, Kihei\, HI\, 96753\, United States
CATEGORIES:Live Music
ATTACH;FMTTYPE=image/jpeg:https://mulligansontheblue.com/wp-content/uploads/2024/06/Ronald-Metoyer-Island-Soul-Band-PC-Shooting-Stars-web.jpg
END:VEVENT
END:VCALENDAR