BEGIN:VCALENDAR
VERSION:2.0
PRODID:-//Mulligans On The Blue - ECPv6.15.20//NONSGML v1.0//EN
CALSCALE:GREGORIAN
METHOD:PUBLISH
X-ORIGINAL-URL:https://mulligansontheblue.com
X-WR-CALDESC:Events for Mulligans On The Blue
REFRESH-INTERVAL;VALUE=DURATION:PT1H
X-Robots-Tag:noindex
X-PUBLISHED-TTL:PT1H
BEGIN:VTIMEZONE
TZID:Pacific/Honolulu
BEGIN:STANDARD
TZOFFSETFROM:-1000
TZOFFSETTO:-1000
TZNAME:HST
DTSTART:20250101T000000
END:STANDARD
END:VTIMEZONE
BEGIN:VEVENT
DTSTART;TZID=Pacific/Honolulu:20260508T164500
DTEND;TZID=Pacific/Honolulu:20260508T184500
DTSTAMP:20260425T043717
CREATED:20260312T032458Z
LAST-MODIFIED:20260424T175246Z
UID:6937-1778258700-1778265900@mulligansontheblue.com
SUMMARY:Legends of the Pacific Luau
DESCRIPTION:Join us for the Legends of the Pacific Luau\, an immersive Polynesian cultural experience presented by Manutea Nui E\, Maui’s locally owned entertainment company specializing in authentic island performances.\nSet against the stunning backdrop of Mulligan’s on the Blue in Wailea\, this unforgettable evening features traditional Hawaiian hula\, Tahitian dance\, Maori haka\, and the thrilling Samoan fire knife performance.\nGuests will enjoy a delicious island-style dinner\, live music\, cultural storytelling\, and interactive moments that bring the legends of the Pacific to life.\nPerfect for families\, couples\, and visitors looking for a genuine Maui cultural experience.\nHighlights:\n• Authentic Polynesian dance performances\n• Samoan fire knife finale\n• Live Hawaiian music\n• Ocean View sunset setting in Wailea\n• Island-style dinner experience\n• Hosted by Maui-based production company Manutea Nui E\n			\n			\n				\n				\n				\n				\n			\n				\n				\n				\n				\n				\n				\n				Buy Tickets\n			\n				All Shows & Events
URL:https://mulligansontheblue.com/event/legends-of-the-pacific-luau-3/
LOCATION:Mulligans On The Blue\, 100 Kaukahi St.\, Kihei\, HI\, 96753\, United States
CATEGORIES:Wailea Nights Lū'au
ATTACH;FMTTYPE=image/jpeg:https://mulligansontheblue.com/wp-content/uploads/2026/03/LuauBWed.jpg
END:VEVENT
BEGIN:VEVENT
DTSTART;TZID=Pacific/Honolulu:20260510T170000
DTEND;TZID=Pacific/Honolulu:20260510T200000
DTSTAMP:20260425T043717
CREATED:20251013T195029Z
LAST-MODIFIED:20260423T133756Z
UID:6360-1778432400-1778443200@mulligansontheblue.com
SUMMARY:Island Soul Band
DESCRIPTION:Maui’s Favorite Dance Band\nJoin us on Sundays from 5-8pm for Maui’s soul\, funk\, & rock dance band\, Island Soul. Each Sunday features a different singer that the band enjoys performing with. Playing hits from the 80s till now the dance floor is open. The $5 cover supports live music.\nReservations are recommended!\n			\n				Reserve Table Here\n			\n				All Shows & Events
URL:https://mulligansontheblue.com/event/island-soul-band-95/
LOCATION:Mulligans On The Blue\, 100 Kaukahi St.\, Kihei\, HI\, 96753\, United States
CATEGORIES:Live Music
ATTACH;FMTTYPE=image/jpeg:https://mulligansontheblue.com/wp-content/uploads/2025/10/Island-Soul-PC-Bruce-Forrester-April-21-2025-1_sqr_600x600.jpg
END:VEVENT
BEGIN:VEVENT
DTSTART;TZID=Pacific/Honolulu:20260511T164500
DTEND;TZID=Pacific/Honolulu:20260511T184500
DTSTAMP:20260425T043717
CREATED:20260312T032316Z
LAST-MODIFIED:20260424T175339Z
UID:6933-1778517900-1778525100@mulligansontheblue.com
SUMMARY:Legends of the Pacific Luau
DESCRIPTION:Join us for the Legends of the Pacific Luau\, an immersive Polynesian cultural experience presented by Manutea Nui E\, Maui’s locally owned entertainment company specializing in authentic island performances.\nSet against the stunning backdrop of Mulligan’s on the Blue in Wailea\, this unforgettable evening features traditional Hawaiian hula\, Tahitian dance\, Maori haka\, and the thrilling Samoan fire knife performance.\nGuests will enjoy a delicious island-style dinner\, live music\, cultural storytelling\, and interactive moments that bring the legends of the Pacific to life.\nPerfect for families\, couples\, and visitors looking for a genuine Maui cultural experience.\nHighlights:\n• Authentic Polynesian dance performances\n• Samoan fire knife finale\n• Live Hawaiian music\n• Ocean View sunset setting in Wailea\n• Island-style dinner experience\n• Hosted by Maui-based production company Manutea Nui E\n			\n			\n				\n				\n				\n				\n			\n				\n				\n				\n				\n				\n				\n				Buy Tickets\n			\n				All Shows & Events
URL:https://mulligansontheblue.com/event/legends-of-the-pacific-luau-2/
LOCATION:Mulligans On The Blue\, 100 Kaukahi St.\, Kihei\, HI\, 96753\, United States
CATEGORIES:Wailea Nights Lū'au
ATTACH;FMTTYPE=image/jpeg:https://mulligansontheblue.com/wp-content/uploads/2026/03/LuauA.jpg
END:VEVENT
BEGIN:VEVENT
DTSTART;TZID=Pacific/Honolulu:20260513T164500
DTEND;TZID=Pacific/Honolulu:20260513T184500
DTSTAMP:20260425T043717
CREATED:20260312T032717Z
LAST-MODIFIED:20260424T175428Z
UID:6942-1778690700-1778697900@mulligansontheblue.com
SUMMARY:Legends of the Pacific Luau
DESCRIPTION:Join us for the Legends of the Pacific Luau\, an immersive Polynesian cultural experience presented by Manutea Nui E\, Maui’s locally owned entertainment company specializing in authentic island performances.\nSet against the stunning backdrop of Mulligan’s on the Blue in Wailea\, this unforgettable evening features traditional Hawaiian hula\, Tahitian dance\, Maori haka\, and the thrilling Samoan fire knife performance.\nGuests will enjoy a delicious island-style dinner\, live music\, cultural storytelling\, and interactive moments that bring the legends of the Pacific to life.\nPerfect for families\, couples\, and visitors looking for a genuine Maui cultural experience.\nHighlights:\n• Authentic Polynesian dance performances\n• Samoan fire knife finale\n• Live Hawaiian music\n• Ocean View sunset setting in Wailea\n• Island-style dinner experience\n• Hosted by Maui-based production company Manutea Nui E\n			\n			\n				\n				\n				\n				\n			\n				\n				\n				\n				\n				\n				\n				Buy Tickets\n			\n				All Shows & Events
URL:https://mulligansontheblue.com/event/legends-of-the-pacific-luau-4/
LOCATION:Mulligans On The Blue\, 100 Kaukahi St.\, Kihei\, HI\, 96753\, United States
CATEGORIES:Wailea Nights Lū'au
ATTACH;FMTTYPE=image/jpeg:https://mulligansontheblue.com/wp-content/uploads/2026/03/LuauBFri.jpg
END:VEVENT
BEGIN:VEVENT
DTSTART;TZID=Pacific/Honolulu:20260514T183000
DTEND;TZID=Pacific/Honolulu:20260514T200000
DTSTAMP:20260425T043717
CREATED:20251013T192535Z
LAST-MODIFIED:20260423T131931Z
UID:6332-1778783400-1778788800@mulligansontheblue.com
SUMMARY:Mulligans Magic Show
DESCRIPTION:Maui’s Magic Show is on Thursday!\nJoin us for an evening of magic with Brenton Keith & His Bag O’Tricks! Brenton’s show is an evening of magic and shenanigans for all ages. Stacy had this to say on OpenTable about her visit on October 2\, 2025\, “Wonderful food and ambiance. The entertainment was fantastic. We’ve seen Brenton Keith 3x in the past four years; he’s that good!”\nDinner seating starts at 5:00 pm and the show starts at 6:30 pm. Tickets are $10 per person\, children 5 and under are free.\nReservations are recommended!\n			\n				Reserve Table Here\n			\n				All Shows & Events
URL:https://mulligansontheblue.com/event/mulligans-magic-show-94/
LOCATION:Mulligans On The Blue\, 100 Kaukahi St.\, Kihei\, HI\, 96753\, United States
CATEGORIES:Magic Show
ATTACH;FMTTYPE=image/jpeg:https://mulligansontheblue.com/wp-content/uploads/2025/08/Magic8600.jpg
END:VEVENT
BEGIN:VEVENT
DTSTART;TZID=Pacific/Honolulu:20260515T164500
DTEND;TZID=Pacific/Honolulu:20260515T184500
DTSTAMP:20260425T043717
CREATED:20260424T180108Z
LAST-MODIFIED:20260424T181459Z
UID:7023-1778863500-1778870700@mulligansontheblue.com
SUMMARY:Legends of the Pacific Luau
DESCRIPTION:Join us for the Legends of the Pacific Luau\, an immersive Polynesian cultural experience presented by Manutea Nui E\, Maui’s locally owned entertainment company specializing in authentic island performances.\nSet against the stunning backdrop of Mulligan’s on the Blue in Wailea\, this unforgettable evening features traditional Hawaiian hula\, Tahitian dance\, Maori haka\, and the thrilling Samoan fire knife performance.\nGuests will enjoy a delicious island-style dinner\, live music\, cultural storytelling\, and interactive moments that bring the legends of the Pacific to life.\nPerfect for families\, couples\, and visitors looking for a genuine Maui cultural experience.\nHighlights:\n• Authentic Polynesian dance performances\n• Samoan fire knife finale\n• Live Hawaiian music\n• Ocean View sunset setting in Wailea\n• Island-style dinner experience\n• Hosted by Maui-based production company Manutea Nui E\n			\n			\n				\n				\n				\n				\n			\n				\n				\n				\n				\n				\n				\n				Buy Tickets\n			\n				All Shows & Events
URL:https://mulligansontheblue.com/event/legends-luau/
LOCATION:Mulligans On The Blue\, 100 Kaukahi St.\, Kihei\, HI\, 96753\, United States
CATEGORIES:Wailea Nights Lū'au
ATTACH;FMTTYPE=image/jpeg:https://mulligansontheblue.com/wp-content/uploads/2026/04/legends_luau_sqr_537x537.jpg
END:VEVENT
BEGIN:VEVENT
DTSTART;TZID=Pacific/Honolulu:20260519T164500
DTEND;TZID=Pacific/Honolulu:20260519T184500
DTSTAMP:20260425T043717
CREATED:20260424T180503Z
LAST-MODIFIED:20260424T181421Z
UID:7031-1779209100-1779216300@mulligansontheblue.com
SUMMARY:Legends of the Pacific Luau
DESCRIPTION:Join us for the Legends of the Pacific Luau\, an immersive Polynesian cultural experience presented by Manutea Nui E\, Maui’s locally owned entertainment company specializing in authentic island performances.\nSet against the stunning backdrop of Mulligan’s on the Blue in Wailea\, this unforgettable evening features traditional Hawaiian hula\, Tahitian dance\, Maori haka\, and the thrilling Samoan fire knife performance.\nGuests will enjoy a delicious island-style dinner\, live music\, cultural storytelling\, and interactive moments that bring the legends of the Pacific to life.\nPerfect for families\, couples\, and visitors looking for a genuine Maui cultural experience.\nHighlights:\n• Authentic Polynesian dance performances\n• Samoan fire knife finale\n• Live Hawaiian music\n• Ocean View sunset setting in Wailea\n• Island-style dinner experience\n• Hosted by Maui-based production company Manutea Nui E\n			\n			\n				\n				\n				\n				\n			\n				\n				\n				\n				\n				\n				\n				Buy Tickets\n			\n				All Shows & Events
URL:https://mulligansontheblue.com/event/legends-pacific-luau/
LOCATION:Mulligans On The Blue\, 100 Kaukahi St.\, Kihei\, HI\, 96753\, United States
CATEGORIES:Wailea Nights Lū'au
ATTACH;FMTTYPE=image/jpeg:https://mulligansontheblue.com/wp-content/uploads/2026/03/LuauA.jpg
END:VEVENT
BEGIN:VEVENT
DTSTART;TZID=Pacific/Honolulu:20260520T164500
DTEND;TZID=Pacific/Honolulu:20260520T184500
DTSTAMP:20260425T043717
CREATED:20260424T181311Z
LAST-MODIFIED:20260424T181346Z
UID:7037-1779295500-1779302700@mulligansontheblue.com
SUMMARY:Legends of the Pacific Luau
DESCRIPTION:Join us for the Legends of the Pacific Luau\, an immersive Polynesian cultural experience presented by Manutea Nui E\, Maui’s locally owned entertainment company specializing in authentic island performances.\nSet against the stunning backdrop of Mulligan’s on the Blue in Wailea\, this unforgettable evening features traditional Hawaiian hula\, Tahitian dance\, Maori haka\, and the thrilling Samoan fire knife performance.\nGuests will enjoy a delicious island-style dinner\, live music\, cultural storytelling\, and interactive moments that bring the legends of the Pacific to life.\nPerfect for families\, couples\, and visitors looking for a genuine Maui cultural experience.\nHighlights:\n• Authentic Polynesian dance performances\n• Samoan fire knife finale\n• Live Hawaiian music\n• Ocean View sunset setting in Wailea\n• Island-style dinner experience\n• Hosted by Maui-based production company Manutea Nui E\n			\n			\n				\n				\n				\n				\n			\n				\n				\n				\n				\n				\n				\n				Buy Tickets\n			\n				All Shows & Events
URL:https://mulligansontheblue.com/event/legends-luau-2/
LOCATION:Mulligans On The Blue\, 100 Kaukahi St.\, Kihei\, HI\, 96753\, United States
CATEGORIES:Wailea Nights Lū'au
ATTACH;FMTTYPE=image/jpeg:https://mulligansontheblue.com/wp-content/uploads/2026/03/LuauBWed.jpg
END:VEVENT
BEGIN:VEVENT
DTSTART;TZID=Pacific/Honolulu:20260521T183000
DTEND;TZID=Pacific/Honolulu:20260521T200000
DTSTAMP:20260425T043717
CREATED:20250925T173822Z
LAST-MODIFIED:20260423T132045Z
UID:6276-1779388200-1779393600@mulligansontheblue.com
SUMMARY:Mulligans Magic Show
DESCRIPTION:Maui’s Magic Show is on Thursday!\nJoin us for an evening of magic with Brenton Keith & His Bag O’Tricks! Brenton’s show is an evening of magic and shenanigans for all ages. A recent guest on OpenTable said “Magic show was fantastic! Food was delicious. We’ll be back.”\nDinner seating starts at 5:00 pm and the show starts at 6:30 pm. Tickets are $10 per person\, children 5 and under are free.\nReservations are recommended!\n			\n				Reserve Table Here\n			\n				All Shows & Events
URL:https://mulligansontheblue.com/event/mulligans-magic-show-90/
LOCATION:Mulligans On The Blue\, 100 Kaukahi St.\, Kihei\, HI\, 96753\, United States
CATEGORIES:Magic Show
ATTACH;FMTTYPE=image/jpeg:https://mulligansontheblue.com/wp-content/uploads/2025/08/Magic4-2600.jpg
END:VEVENT
BEGIN:VEVENT
DTSTART;TZID=Pacific/Honolulu:20260524T170000
DTEND;TZID=Pacific/Honolulu:20260524T200000
DTSTAMP:20260425T043717
CREATED:20251013T194738Z
LAST-MODIFIED:20260423T133900Z
UID:6353-1779642000-1779652800@mulligansontheblue.com
SUMMARY:Island Soul Band
DESCRIPTION:Maui’s Favorite Dance Band\nJoin us on Sundays from 5-8pm for Maui’s soul\, funk\, & rock dance band\, Island Soul. Each Sunday features a different singer that the band enjoys performing with. Playing hits from the 80s till now the dance floor is open. The $5 cover supports live music.\nReservations are recommended!\n			\n				Reserve Table Here\n			\n				All Shows & Events
URL:https://mulligansontheblue.com/event/island-soul-band-94/
LOCATION:Mulligans On The Blue\, 100 Kaukahi St.\, Kihei\, HI\, 96753\, United States
CATEGORIES:Live Music
ATTACH;FMTTYPE=image/jpeg:https://mulligansontheblue.com/wp-content/uploads/2025/10/Island-Soul-PC-Bruce-Forrester-April-21-2025-sqr_2-600x600-1.jpg
END:VEVENT
BEGIN:VEVENT
DTSTART;TZID=Pacific/Honolulu:20260525T164500
DTEND;TZID=Pacific/Honolulu:20260525T184500
DTSTAMP:20260425T043717
CREATED:20260424T181739Z
LAST-MODIFIED:20260424T181742Z
UID:7045-1779727500-1779734700@mulligansontheblue.com
SUMMARY:Legends of the Pacific Luau
DESCRIPTION:Join us for the Legends of the Pacific Luau\, an immersive Polynesian cultural experience presented by Manutea Nui E\, Maui’s locally owned entertainment company specializing in authentic island performances.\nSet against the stunning backdrop of Mulligan’s on the Blue in Wailea\, this unforgettable evening features traditional Hawaiian hula\, Tahitian dance\, Maori haka\, and the thrilling Samoan fire knife performance.\nGuests will enjoy a delicious island-style dinner\, live music\, cultural storytelling\, and interactive moments that bring the legends of the Pacific to life.\nPerfect for families\, couples\, and visitors looking for a genuine Maui cultural experience.\nHighlights:\n• Authentic Polynesian dance performances\n• Samoan fire knife finale\n• Live Hawaiian music\n• Ocean View sunset setting in Wailea\n• Island-style dinner experience\n• Hosted by Maui-based production company Manutea Nui E\n			\n			\n				\n				\n				\n				\n			\n				\n				\n				\n				\n				\n				\n				Buy Tickets\n			\n				All Shows & Events
URL:https://mulligansontheblue.com/event/legendsc-luau-3/
LOCATION:Mulligans On The Blue\, 100 Kaukahi St.\, Kihei\, HI\, 96753\, United States
CATEGORIES:Wailea Nights Lū'au
ATTACH;FMTTYPE=image/jpeg:https://mulligansontheblue.com/wp-content/uploads/2026/03/LuauBFri.jpg
END:VEVENT
BEGIN:VEVENT
DTSTART;TZID=Pacific/Honolulu:20260526T164500
DTEND;TZID=Pacific/Honolulu:20260526T184500
DTSTAMP:20260425T043717
CREATED:20260424T181927Z
LAST-MODIFIED:20260424T181930Z
UID:7050-1779813900-1779821100@mulligansontheblue.com
SUMMARY:Legends of the Pacific Luau
DESCRIPTION:Join us for the Legends of the Pacific Luau\, an immersive Polynesian cultural experience presented by Manutea Nui E\, Maui’s locally owned entertainment company specializing in authentic island performances.\nSet against the stunning backdrop of Mulligan’s on the Blue in Wailea\, this unforgettable evening features traditional Hawaiian hula\, Tahitian dance\, Maori haka\, and the thrilling Samoan fire knife performance.\nGuests will enjoy a delicious island-style dinner\, live music\, cultural storytelling\, and interactive moments that bring the legends of the Pacific to life.\nPerfect for families\, couples\, and visitors looking for a genuine Maui cultural experience.\nHighlights:\n• Authentic Polynesian dance performances\n• Samoan fire knife finale\n• Live Hawaiian music\n• Ocean View sunset setting in Wailea\n• Island-style dinner experience\n• Hosted by Maui-based production company Manutea Nui E\n			\n			\n				\n				\n				\n				\n			\n				\n				\n				\n				\n				\n				\n				Buy Tickets\n			\n				All Shows & Events
URL:https://mulligansontheblue.com/event/legends-luau-4/
LOCATION:Mulligans On The Blue\, 100 Kaukahi St.\, Kihei\, HI\, 96753\, United States
CATEGORIES:Wailea Nights Lū'au
ATTACH;FMTTYPE=image/jpeg:https://mulligansontheblue.com/wp-content/uploads/2026/04/legends_luau_sqr_537x537.jpg
END:VEVENT
BEGIN:VEVENT
DTSTART;TZID=Pacific/Honolulu:20260527T164500
DTEND;TZID=Pacific/Honolulu:20260527T184500
DTSTAMP:20260425T043717
CREATED:20260424T182107Z
LAST-MODIFIED:20260424T182120Z
UID:7056-1779900300-1779907500@mulligansontheblue.com
SUMMARY:Legends of the Pacific Luau
DESCRIPTION:Join us for the Legends of the Pacific Luau\, an immersive Polynesian cultural experience presented by Manutea Nui E\, Maui’s locally owned entertainment company specializing in authentic island performances.\nSet against the stunning backdrop of Mulligan’s on the Blue in Wailea\, this unforgettable evening features traditional Hawaiian hula\, Tahitian dance\, Maori haka\, and the thrilling Samoan fire knife performance.\nGuests will enjoy a delicious island-style dinner\, live music\, cultural storytelling\, and interactive moments that bring the legends of the Pacific to life.\nPerfect for families\, couples\, and visitors looking for a genuine Maui cultural experience.\nHighlights:\n• Authentic Polynesian dance performances\n• Samoan fire knife finale\n• Live Hawaiian music\n• Ocean View sunset setting in Wailea\n• Island-style dinner experience\n• Hosted by Maui-based production company Manutea Nui E\n			\n			\n				\n				\n				\n				\n			\n				\n				\n				\n				\n				\n				\n				Buy Tickets\n			\n				All Shows & Events
URL:https://mulligansontheblue.com/event/legends-luau-5/
LOCATION:Mulligans On The Blue\, 100 Kaukahi St.\, Kihei\, HI\, 96753\, United States
CATEGORIES:Wailea Nights Lū'au
ATTACH;FMTTYPE=image/jpeg:https://mulligansontheblue.com/wp-content/uploads/2026/03/LuauA.jpg
END:VEVENT
BEGIN:VEVENT
DTSTART;TZID=Pacific/Honolulu:20260528T183000
DTEND;TZID=Pacific/Honolulu:20260528T200000
DTSTAMP:20260425T043717
CREATED:20251119T210155Z
LAST-MODIFIED:20260423T133529Z
UID:6511-1779993000-1779998400@mulligansontheblue.com
SUMMARY:Mulligans Magic Show
DESCRIPTION:Maui’s Magic Show is on Wednesday this week!\nJoin us for an evening of magic with Brenton Keith & His Bag O’Tricks! Brenton’s show is an evening of magic and shenanigans for all ages. Stacy had this to say on OpenTable about his visit on October 5\, 2025\, “Wonderful food and ambiance. The entertainment was fantastic. We’ve seen Brenton Keith 3x in the past four years; he’s that good!”\nDinner seating starts at 5:00 pm and the show starts at 6:30 pm. Tickets are $10 per person\, children 5 and under are free.\nReservations are recommended!\n			\n				Reserve Table Here\n			\n				All Shows & Events
URL:https://mulligansontheblue.com/event/mulligans-magic-show-99/
LOCATION:Mulligans On The Blue\, 100 Kaukahi St.\, Kihei\, HI\, 96753\, United States
CATEGORIES:Magic Show
ATTACH;FMTTYPE=image/jpeg:https://mulligansontheblue.com/wp-content/uploads/2025/11/brenton_fb_post_9.11.2025_REV-sqr_600x600.jpg
END:VEVENT
BEGIN:VEVENT
DTSTART;TZID=Pacific/Honolulu:20260531T170000
DTEND;TZID=Pacific/Honolulu:20260531T200000
DTSTAMP:20260425T043717
CREATED:20251103T152611Z
LAST-MODIFIED:20260423T133948Z
UID:6455-1780246800-1780257600@mulligansontheblue.com
SUMMARY:Island Soul Band
DESCRIPTION:Maui’s Favorite Dance Band\nJoin us on Sundays from 5-8pm for Maui’s soul\, funk\, & rock dance band\, Island Soul. Each Sunday features a different singer that the band enjoys performing with. Playing hits from the 80s till now the dance floor is open. The $5 cover supports live music.\nReservations are recommended!\n			\n				Reserve Table Here\n			\n				All Shows & Events
URL:https://mulligansontheblue.com/event/island-soul-band-100/
LOCATION:Mulligans On The Blue\, 100 Kaukahi St.\, Kihei\, HI\, 96753\, United States
CATEGORIES:Live Music
ATTACH;FMTTYPE=image/jpeg:https://mulligansontheblue.com/wp-content/uploads/2024/06/Ronald-Metoyer-Island-Soul-Band-PC-Shooting-Stars-web.jpg
END:VEVENT
END:VCALENDAR