BEGIN:VCALENDAR
VERSION:2.0
PRODID:-//Mulligans On The Blue - ECPv6.15.20//NONSGML v1.0//EN
CALSCALE:GREGORIAN
METHOD:PUBLISH
X-ORIGINAL-URL:https://mulligansontheblue.com
X-WR-CALDESC:Events for Mulligans On The Blue
REFRESH-INTERVAL;VALUE=DURATION:PT1H
X-Robots-Tag:noindex
X-PUBLISHED-TTL:PT1H
BEGIN:VTIMEZONE
TZID:Pacific/Honolulu
BEGIN:STANDARD
TZOFFSETFROM:-1000
TZOFFSETTO:-1000
TZNAME:HST
DTSTART:20240101T000000
END:STANDARD
END:VTIMEZONE
BEGIN:VEVENT
DTSTART;TZID=Pacific/Honolulu:20251002T183000
DTEND;TZID=Pacific/Honolulu:20251002T200000
DTSTAMP:20260423T235242
CREATED:20250925T173452Z
LAST-MODIFIED:20250925T173454Z
UID:6266-1759429800-1759435200@mulligansontheblue.com
SUMMARY:Mulligans Magic Show
DESCRIPTION:Maui’s Magic Show is on Thursday!\nJoin us for an evening of magic with Brenton Keith & His Bag O’Tricks! Brenton’s show is an evening of magic and shenanigans for all ages. A recent guest on OpenTable said “Magic show was fantastic! Food was delicious. We’ll be back.”\nDinner seating starts at 5:00 pm and the show starts at 6:30 pm. Tickets are $10 per person\, children 5 and under are free.\nReservations are recommended!\n			\n				Reserve Table Here\n			\n				All Shows & Events
URL:https://mulligansontheblue.com/event/mulligans-magic-show-88/
LOCATION:Mulligans On The Blue\, 100 Kaukahi St.\, Kihei\, HI\, 96753\, United States
CATEGORIES:Magic Show
ATTACH;FMTTYPE=image/jpeg:https://mulligansontheblue.com/wp-content/uploads/2025/08/Magic8600.jpg
END:VEVENT
BEGIN:VEVENT
DTSTART;TZID=Pacific/Honolulu:20251003T193000
DTEND;TZID=Pacific/Honolulu:20251003T213000
DTSTAMP:20260423T235242
CREATED:20250914T032054Z
LAST-MODIFIED:20250930T171249Z
UID:6149-1759519800-1759527000@mulligansontheblue.com
SUMMARY:Bayou Brothers Revival - A Tribute to Creedence Clearwater Revival
DESCRIPTION:Bayou Brothers Revival – A Tribute to Creedence Clearwater Revival\nAG Presents is excited to bring you Hawai’i’s newest tribute band\, BBR\, “Bayou Brothers Revival” paying tribute to one of the greatest song writing bands\, Creedence Clearwater Revival.\nJoin us October 3rd at Mulligans on the Blue in Wailea for a trip through the Bayou!  The band consists of Austin Hutto on guitar and lead vocals\, pulling off Jon Fogerty’s vocals like you’ve never heard!! Justin Morris on bass and vocals\, and Steve Morris on drums and vocals. If you’re familiar with the Lonely Hearts Beatles and Beyond\, then you’ll know how good these guys are! \nBust out your flannels and let’s get ready to hit the Bayou with some of the greatest rock music ever written!! You’ll be singing along from the first song to the last! \nDoors 6:30pm \nShow: 7:30pm \n Tickets: $20 \nphotos: @ShootsByGianna \nTable seating is available on a first come first serve basis. Depending on the size of the show inside seating may be limited. \n			\n				Buy Tickets\n			\n				All Shows & Events
URL:https://mulligansontheblue.com/event/bayou-brothers-revival-a-tribute-to-creedence-clearwater-revival/
LOCATION:Mulligans On The Blue\, 100 Kaukahi St.\, Kihei\, HI\, 96753\, United States
CATEGORIES:Live Music
ATTACH;FMTTYPE=image/jpeg:https://mulligansontheblue.com/wp-content/uploads/2025/09/BBR_SQR_10.03_600.jpg
END:VEVENT
BEGIN:VEVENT
DTSTART;TZID=Pacific/Honolulu:20251004T193000
DTEND;TZID=Pacific/Honolulu:20251004T213000
DTSTAMP:20260423T235242
CREATED:20250708T222522Z
LAST-MODIFIED:20250925T191817Z
UID:5813-1759606200-1759613400@mulligansontheblue.com
SUMMARY:Rowdy Love - Live at Mulligans
DESCRIPTION:Rowdy Love Live\nAloha Growers Presents and Mulligans on the Blue welcome Rowdy Love and their full band for a night of Rockabilly Americana that will have you dancing all night!! Show is from 7:30 to 9:30pm.\nWho is Rowdy Love? Aaron Jernigan and Stina Lynn are wild souls who met on a little farm in Haiku\, Hawai’i\, over a decade ago. Seeing as they both had the same taste in music\, they decided to start singing tunes together at parties and potlucks. After a successful run with their band Flat Jackson\, Aaron and Stina started Rowdy Love. With the new band behind them\, Clint Bleifus (rhythm and lead guitars)\, Jonas Troxell (Bass)\, and Paul Gilespie (Drums)\, they have created a unique but familiar sound that can best be described as a Rockabilly-Americana mash-up with the energy of punk and the subtle undertones of ska. They have built a Rockabilly powerhouse that will turn any event into a dancehall\, shakedown\, hootenanny… And donʻt forget to bring your dancing shoes!!\nRowdy Love has been packing venues and dance floors with every show they’ve done\, gaining new fans of all ages along the way. They have even recently started their own annual festival on Maui called “Rowdy Fest”.\n$10 presale\nShow starts at 7:30pm. Doors open at 6:30pm. Join us for dinner and stay for the music and dancing! Tables and seating are first-come\, first-served.\n			\n				Buy Tickets\n			\n				All Shows & Events
URL:https://mulligansontheblue.com/event/rowdy-love-live-at-mulligans/
LOCATION:Mulligans On The Blue\, 100 Kaukahi St.\, Kihei\, HI\, 96753\, United States
CATEGORIES:Live Music
ATTACH;FMTTYPE=image/jpeg:https://mulligansontheblue.com/wp-content/uploads/2025/09/RowdyLoveSqR2_600.jpg
END:VEVENT
BEGIN:VEVENT
DTSTART;TZID=Pacific/Honolulu:20251005T170000
DTEND;TZID=Pacific/Honolulu:20251005T200000
DTSTAMP:20260423T235242
CREATED:20250925T172709Z
LAST-MODIFIED:20250925T172712Z
UID:6245-1759683600-1759694400@mulligansontheblue.com
SUMMARY:Island Soul Band
DESCRIPTION:Maui’s Favorite Dance Band\nJoin us on Sundays from 5-8pm for Maui’s soul\, funk\, & rock dance band\, Island Soul. Each Sunday features a different singer that the band enjoys performing with. Playing hits from the 80s till now the dance floor is open. The $5 cover supports live music.\nReservations are recommended!\n			\n				Reserve Table Here\n			\n				All Shows & Events
URL:https://mulligansontheblue.com/event/island-soul-band-89/
LOCATION:Mulligans On The Blue\, 100 Kaukahi St.\, Kihei\, HI\, 96753\, United States
CATEGORIES:Live Music
ATTACH;FMTTYPE=image/jpeg:https://mulligansontheblue.com/wp-content/uploads/2024/06/ron-island-soul-6.29.2019-sqr-web.jpg
END:VEVENT
BEGIN:VEVENT
DTSTART;TZID=Pacific/Honolulu:20251009T183000
DTEND;TZID=Pacific/Honolulu:20251009T200000
DTSTAMP:20260423T235242
CREATED:20250925T173631Z
LAST-MODIFIED:20250925T173633Z
UID:6271-1760034600-1760040000@mulligansontheblue.com
SUMMARY:Mulligans Magic Show
DESCRIPTION:Maui’s Magic Show is on Thursday!\nJoin us for an evening of magic with Brenton Keith & His Bag O’Tricks! Brenton’s show is an evening of magic and shenanigans for all ages. A recent guest on OpenTable said “Magic show was fantastic! Food was delicious. We’ll be back.”\nDinner seating starts at 5:00 pm and the show starts at 6:30 pm. Tickets are $10 per person\, children 5 and under are free.\nReservations are recommended!\n			\n				Reserve Table Here\n			\n				All Shows & Events
URL:https://mulligansontheblue.com/event/mulligans-magic-show-89/
LOCATION:Mulligans On The Blue\, 100 Kaukahi St.\, Kihei\, HI\, 96753\, United States
CATEGORIES:Magic Show
ATTACH;FMTTYPE=image/jpeg:https://mulligansontheblue.com/wp-content/uploads/2025/08/Magic2600.jpg
END:VEVENT
BEGIN:VEVENT
DTSTART;TZID=Pacific/Honolulu:20251010T200000
DTEND;TZID=Pacific/Honolulu:20251010T220000
DTSTAMP:20260423T235242
CREATED:20250819T055016Z
LAST-MODIFIED:20251001T014252Z
UID:6020-1760126400-1760133600@mulligansontheblue.com
SUMMARY:Joe Caro’s Friday Night Live
DESCRIPTION:Joe Caro’s “Friday Night Live” (FNL)\nFor two decades\, legendary New York Guitarist Joe Caro had a jam session of sorts in New York City featuring some of the best studio and recording musicians New York had to offer. This weekly engagement became legendary and was the place to be for live music. Joe is going to recreate this night of music\, “Friday Night Live\,” here on Maui with his good friends Jay Molina on Bass\, Mark Johnstone on Keys\, and Marty Fera on Drums. Who knows\, there may even be a special guest or two showing up!\nReservations are recommended!\nA $10 music charge will be added to your bill when you arrive.\nABOUT JOE:Joe Caro is a guitarist\, composer\, and singer born and raised in New York City. Early influences included the British Invasion\,  Blues and Jazz. At a young age\, he started working in the studios and touring the US\, Japan\, and Europe. He has recorded with Bette Midler\, Blue Öyster Cult\, Carly Simon\, Michael Franks\, Bobby McFerrin\, Gato Barbieri\, Michael McDonald\, Fania Allstars\, Chaka Khan\,  Randy Brecker\,  and many more.\nJoe has toured with Dr. John\,  Herbie Mann\, Carly Simon /James Taylor\,  Michael Franks\, Akiko Yano\, played live or on TV for Jon Bongovi\, Clint Black\, Joan Osborne\, Pat Metheny\, Donald Fagen\, The Brecker Brothers\, The Blues Brothers\, Crosby\, Stills and Nash\, Roberta Flack\, The Eagles\, Sheryl Crow\, Olivia Newton-John\, Aretha Franklin\, Willie Dixon\,  Stanley Clarke\, Luther Vandross\, Dave Mason\, Steven Tyler\, Jonny Lang etc. and appeared in the house bands of The Late Show with David Letterman\, Saturday Night Live\, The Grammys and countless TV Commercials and Movies. Besides his work with Paul Shaffer\, with whom he’s had a working friendship for many years\, he is also musical director for Mick Fleetwood’s “House of Rumors” band. \nHe’s released three recordings of his own\, “Home Alone”\, “Live in New York City”\, and “Every Dog Has His Day” on Innsbruck Records and BFD on Iguana Records with sidemen Wil Lee and Steve Ferrone. He currently lives on the island of Maui. \n  \n			\n				Reserve Table Here\n			\n				All Shows & Events
URL:https://mulligansontheblue.com/event/joe-caros-friday-night-live-2/
LOCATION:Mulligans On The Blue\, 100 Kaukahi St.\, Kihei\, HI\, 96753\, United States
CATEGORIES:Live Music
ATTACH;FMTTYPE=image/jpeg:https://mulligansontheblue.com/wp-content/uploads/2025/08/JoeCaros_FNL_SQR10.10.jpg
END:VEVENT
BEGIN:VEVENT
DTSTART;TZID=Pacific/Honolulu:20251012T170000
DTEND;TZID=Pacific/Honolulu:20251012T200000
DTSTAMP:20260423T235242
CREATED:20250925T172852Z
LAST-MODIFIED:20250925T172854Z
UID:6250-1760288400-1760299200@mulligansontheblue.com
SUMMARY:Island Soul Band
DESCRIPTION:Maui’s Favorite Dance Band\nJoin us on Sundays from 5-8pm for Maui’s soul\, funk\, & rock dance band\, Island Soul. Each Sunday features a different singer that the band enjoys performing with. Playing hits from the 80s till now the dance floor is open. The $5 cover supports live music.\nReservations are recommended!\n			\n				Reserve Table Here\n			\n				All Shows & Events
URL:https://mulligansontheblue.com/event/island-soul-band-90/
LOCATION:Mulligans On The Blue\, 100 Kaukahi St.\, Kihei\, HI\, 96753\, United States
CATEGORIES:Live Music
ATTACH;FMTTYPE=image/jpeg:https://mulligansontheblue.com/wp-content/uploads/2023/11/Island-Soul-FB-Post-1_web.jpg
END:VEVENT
BEGIN:VEVENT
DTSTART;TZID=Pacific/Honolulu:20251017T180000
DTEND;TZID=Pacific/Honolulu:20251017T200000
DTSTAMP:20260423T235242
CREATED:20251013T182053Z
LAST-MODIFIED:20251013T182055Z
UID:6316-1760724000-1760731200@mulligansontheblue.com
SUMMARY:Violin Virtuoso Willy Wainwright
DESCRIPTION:Willy Wainwright Violin Virtuoso\nWe are thrilled to welcome World-Class Violinist Willy Wainwright back to the Mulligans Music Box on Friday\, October 17th from 6-8pm! Join us for dinner\, sunset\, and world-class music.\nWilly is a violinist who began playing the violin as a child in Chicago\, Illinois. He is an accomplished musician and charismatic performer who has mastered many styles throughout the years including classical\, country\, bluegrass\, jazz\, and Irish. He has performed and toured with internationally known artists. Career highlights include performing at the White House\, Grand Ole Opry\, The Johnny Carson Show\, The Tonight Show with Jay Leno\, and Farm Aid. Willy also plays in the group ‘Weatherly-Wainwright’ with his wife Jennifer Weatherly and the Maui-based Gypsy Jazz group\, Gypsy Pacific. He has also released solo albums that feature many of his personal favorites.\nDinner seating begins at 5:00 p.m.\, and music starts at 6:00 p.m. Table reservations are recommended!\n*There are a limited number of tables in the music box that are ADA / wheelchair accessible. They are available on a first come first served basis by anyone. Should there be a need to move guests to make room for someone with a wheelchair\, management may ask to move a patron to accommodate said guest. \n			\n				Make Reservations\n			\n				All Shows & Events
URL:https://mulligansontheblue.com/event/violin-virtuoso-willy-wainwright/
LOCATION:Mulligans On The Blue\, 100 Kaukahi St.\, Kihei\, HI\, 96753\, United States
CATEGORIES:Live Music
ATTACH;FMTTYPE=image/jpeg:https://mulligansontheblue.com/wp-content/uploads/2025/10/WillyWainwrightSqrMCOC-web.jpg
END:VEVENT
BEGIN:VEVENT
DTSTART;TZID=Pacific/Honolulu:20251018T190000
DTEND;TZID=Pacific/Honolulu:20251018T220000
DTSTAMP:20260423T235242
CREATED:20250926T212207Z
LAST-MODIFIED:20251015T020352Z
UID:6294-1760814000-1760824800@mulligansontheblue.com
SUMMARY:Rocktober with the Roundabouts and Friends
DESCRIPTION:Rocktober with the Roundabouts and Friends\nAG Presents and Mulligans On The Blue are excited to bring you Rocktober with the Roundabouts!! The Roundabouts have invited two other bands to join them. Annie and the Orfinz\, and The Satterday Saints. 3 bands\, 1 show. Costumes are highly encouraged\, letʻs hit the dance floor to some of your favorite 80’s and 90’s songs.\n$10 presale online – $15 at the Door. Show starts at 7:00pm. Doors open at 6:00pm\nThe Roundabouts are not your average cover band. Starting as a group of experienced musicians from various backgrounds\, they all had one thing in common: a love of rock ‘n’ roll.\nLonging for more rock shows on Maui\, they decided to take matters into their own hands. With electrifying vocals\, raging guitar solos\, thumping bass\, and banging beats\, The Roundabouts perform some rarely-heard-live hits while bringing the best of the B-side to the South Side. Spanning all decades and genres from The Police\, Bon Jovi\, and Poison to The Offspring\, My Chemical Romance\, and Olivia Rodrigo (spliced together with Ozzy Osbourne!)\, there’s something for everyone to rock out to.\nBecca Miller leads the band on vocals\, Kevin Johnson on drums\, Nick Thompson and Kris Baca on guitars\, and Sean Robinson on bass. Rock\, alt\, pop\, a lil’ country\, a pinch of metal\, and a dash of ska\, it’s never the same set twice\, but always nothin’ but a good time!\nInstagram: @theroundabouts.maui\nThe Satterday Saints was started by lead singer/drummer\, Patrick Tavis and guitarist\, Cody Saito\, in the mid-2000’s. The two were roommates living in West Hollywood\, while Cody attended school for music arts.\nThe two\, along with former bassist\, Zane Zwicker\, started playing gigs at just about every venue on Maui in 2009. Opening for bands like The Vandals\, Agent Orange\, Guttermouth and NOFX.\nBassist\, Marvin Fulgencio\, moved to Maui in 2016 from Northen California\, and met Patrick and Cody shortly after. Marvin joined the band in the summer of 2022 and the trio has been playing together since. You can stream their shows live at twitch.tv/ thesatterdaysaints. And check out their Instagram. @thesatterdaysaints\nShow starts at 7:00pm. Doors open at 6pm. Join us for dinner and stay for the music and dancing! Tables and seating are first come first serve.\n			\n				Buy Tickets\n			\n				All Shows & Events
URL:https://mulligansontheblue.com/event/rocktober-with-the-roundabouts-and-friends-2/
LOCATION:Mulligans On The Blue\, 100 Kaukahi St.\, Kihei\, HI\, 96753\, United States
CATEGORIES:Live Music
ATTACH;FMTTYPE=image/jpeg:https://mulligansontheblue.com/wp-content/uploads/2025/09/RoudaboutsRocktoberSQR_600-2.jpg
END:VEVENT
BEGIN:VEVENT
DTSTART;TZID=Pacific/Honolulu:20251019T170000
DTEND;TZID=Pacific/Honolulu:20251019T200000
DTSTAMP:20260423T235242
CREATED:20250925T173029Z
LAST-MODIFIED:20250925T173032Z
UID:6255-1760893200-1760904000@mulligansontheblue.com
SUMMARY:Island Soul Band
DESCRIPTION:Maui’s Favorite Dance Band\nJoin us on Sundays from 5-8pm for Maui’s soul\, funk\, & rock dance band\, Island Soul. Each Sunday features a different singer that the band enjoys performing with. Playing hits from the 80s till now the dance floor is open. The $5 cover supports live music.\nReservations are recommended!\n			\n				Reserve Table Here\n			\n				All Shows & Events
URL:https://mulligansontheblue.com/event/island-soul-band-91/
LOCATION:Mulligans On The Blue\, 100 Kaukahi St.\, Kihei\, HI\, 96753\, United States
CATEGORIES:Live Music
ATTACH;FMTTYPE=image/jpeg:https://mulligansontheblue.com/wp-content/uploads/2024/06/Ronald-Metoyer-Island-Soul-Band-PC-Shooting-Stars-web.jpg
END:VEVENT
BEGIN:VEVENT
DTSTART;TZID=Pacific/Honolulu:20251023T183000
DTEND;TZID=Pacific/Honolulu:20251023T200000
DTSTAMP:20260423T235242
CREATED:20250925T174000Z
LAST-MODIFIED:20250925T174002Z
UID:6281-1761244200-1761249600@mulligansontheblue.com
SUMMARY:Mulligans Magic Show
DESCRIPTION:Maui’s Magic Show is on Thursday!\nJoin us for an evening of magic with Brenton Keith & His Bag O’Tricks! Brenton’s show is an evening of magic and shenanigans for all ages. A recent guest on OpenTable said “Magic show was fantastic! Food was delicious. We’ll be back.”\nDinner seating starts at 5:00 pm and the show starts at 6:30 pm. Tickets are $10 per person\, children 5 and under are free.\nReservations are recommended!\n			\n				Reserve Table Here\n			\n				All Shows & Events
URL:https://mulligansontheblue.com/event/mulligans-magic-show-91/
LOCATION:Mulligans On The Blue\, 100 Kaukahi St.\, Kihei\, HI\, 96753\, United States
CATEGORIES:Magic Show
ATTACH;FMTTYPE=image/jpeg:https://mulligansontheblue.com/wp-content/uploads/2025/08/Magic9600.jpg
END:VEVENT
BEGIN:VEVENT
DTSTART;TZID=Pacific/Honolulu:20251025T180000
DTEND;TZID=Pacific/Honolulu:20251025T220000
DTSTAMP:20260423T235242
CREATED:20240926T211231Z
LAST-MODIFIED:20251015T011538Z
UID:4322-1761415200-1761429600@mulligansontheblue.com
SUMMARY:MEOW-Loween Dance Party Fundraiser
DESCRIPTION:Meow-Loween Dance Party Fundraiser\nThe Rusty MauiCat Collective presents The Third Annual Meow-Loween Dance Party Fundraiser on October 25\, 2025\, from 6:00 P.M. to 10:00 P.M. at Mulligans on the Blue located at 100 Kaukahi Street in Wailea. Join us for a fun night of DJ & dancing\, door prizes and a silent auction. Come in costume and get a costume prize raffle ticket.  Swag bags for the 1st 125 guests.  Ace of Cups will also be joining us for Tarot Card readings.\nAll proceeds will go towards our continued support of the feral cat community including TNR (trap-neuter-return) efforts\, procuring more cat traps\, providing medical support\, cat food\, supplies\, and air fare to fly kittens to mainland shelters.\nWe appreciate everyone’s help and look forward to seeing you at our event.\n$25 advance – $30 art the door. table reservations are recommended!\n*There are a limited number of tables in the music box that are ADA / wheelchair accessible. They are available on a first come first served basis by anyone. Should there be a need to move guests to make room for someone with a wheelchair\, management may ask to move a patron to accommodate said guest. \n			\n				Tickets Here\n			\n				Make Reservations\n			\n				All Shows & Events
URL:https://mulligansontheblue.com/event/meow-loween-dance-party-fundraiser/
LOCATION:Mulligans On The Blue\, 100 Kaukahi St.\, Kihei\, HI\, 96753\, United States
CATEGORIES:Live Music
ATTACH;FMTTYPE=image/jpeg:https://mulligansontheblue.com/wp-content/uploads/2024/09/MeowLowen2025_600.jpg
END:VEVENT
BEGIN:VEVENT
DTSTART;TZID=Pacific/Honolulu:20251026T170000
DTEND;TZID=Pacific/Honolulu:20251026T200000
DTSTAMP:20260423T235242
CREATED:20250925T173246Z
LAST-MODIFIED:20250925T173249Z
UID:6261-1761498000-1761508800@mulligansontheblue.com
SUMMARY:Island Soul Band
DESCRIPTION:Maui’s Favorite Dance Band\nJoin us on Sundays from 5-8pm for Maui’s soul\, funk\, & rock dance band\, Island Soul. Each Sunday features a different singer that the band enjoys performing with. Playing hits from the 80s till now the dance floor is open. The $5 cover supports live music.\nReservations are recommended!\n			\n				Reserve Table Here\n			\n				All Shows & Events
URL:https://mulligansontheblue.com/event/island-soul-band-92/
LOCATION:Mulligans On The Blue\, 100 Kaukahi St.\, Kihei\, HI\, 96753\, United States
CATEGORIES:Live Music
ATTACH;FMTTYPE=image/jpeg:https://mulligansontheblue.com/wp-content/uploads/2024/05/ron-island-soul-10.9.2019-sqr-web.jpg
END:VEVENT
BEGIN:VEVENT
DTSTART;TZID=Pacific/Honolulu:20251030T183000
DTEND;TZID=Pacific/Honolulu:20251030T200000
DTSTAMP:20260423T235242
CREATED:20250925T174157Z
LAST-MODIFIED:20250925T174159Z
UID:6286-1761849000-1761854400@mulligansontheblue.com
SUMMARY:Mulligans Magic Show
DESCRIPTION:Maui’s Magic Show is on Thursday!\nJoin us for an evening of magic with Brenton Keith & His Bag O’Tricks! Brenton’s show is an evening of magic and shenanigans for all ages. A recent guest on OpenTable said “Magic show was fantastic! Food was delicious. We’ll be back.”\nDinner seating starts at 5:00 pm and the show starts at 6:30 pm. Tickets are $10 per person\, children 5 and under are free.\nReservations are recommended!\n			\n				Reserve Table Here\n			\n				All Shows & Events
URL:https://mulligansontheblue.com/event/mulligans-magic-show-92/
LOCATION:Mulligans On The Blue\, 100 Kaukahi St.\, Kihei\, HI\, 96753\, United States
CATEGORIES:Magic Show
ATTACH;FMTTYPE=image/jpeg:https://mulligansontheblue.com/wp-content/uploads/2024/05/brenton_keith_fb_post_June_28_2023-600sqr.jpg
END:VEVENT
BEGIN:VEVENT
DTSTART;TZID=Pacific/Honolulu:20251031T190000
DTEND;TZID=Pacific/Honolulu:20251031T220000
DTSTAMP:20260423T235242
CREATED:20250924T170903Z
LAST-MODIFIED:20251013T200146Z
UID:6228-1761937200-1761948000@mulligansontheblue.com
SUMMARY:Island Soul Band Halloween Party
DESCRIPTION:Halloween Party with the Island Soul Band\nHalloween Dance Party with the Island Soul Band PLUS Costume Contest!\n$15 Cover at the Door \n$10 Cover with an Open Table Reservation \nMaui’s favorite dance band playing soul\, funk\, & rock!! Playing hits from the 80s till now the dance floor is open. Food and drinks served all night\, dancing\, costume contest!!\n			\n				Open Table\n			\n				All Shows & Events
URL:https://mulligansontheblue.com/event/island-soul-band-halloween-party/
LOCATION:HI
CATEGORIES:Live Music
ATTACH;FMTTYPE=image/jpeg:https://mulligansontheblue.com/wp-content/uploads/2025/09/Halloween_ISB_2025.jpg
END:VEVENT
END:VCALENDAR