BEGIN:VCALENDAR
VERSION:2.0
PRODID:-//Mulligans On The Blue - ECPv6.15.20//NONSGML v1.0//EN
CALSCALE:GREGORIAN
METHOD:PUBLISH
X-WR-CALNAME:Mulligans On The Blue
X-ORIGINAL-URL:https://mulligansontheblue.com
X-WR-CALDESC:Events for Mulligans On The Blue
REFRESH-INTERVAL;VALUE=DURATION:PT1H
X-Robots-Tag:noindex
X-PUBLISHED-TTL:PT1H
BEGIN:VTIMEZONE
TZID:Pacific/Honolulu
BEGIN:STANDARD
TZOFFSETFROM:-1000
TZOFFSETTO:-1000
TZNAME:HST
DTSTART:20250101T000000
END:STANDARD
END:VTIMEZONE
BEGIN:VEVENT
DTSTART;TZID=Pacific/Honolulu:20260303T180000
DTEND;TZID=Pacific/Honolulu:20260303T213000
DTSTAMP:20260423T045818
CREATED:20260212T233255Z
LAST-MODIFIED:20260214T010441Z
UID:6817-1772560800-1772573400@mulligansontheblue.com
SUMMARY:Jerrypalooza
DESCRIPTION:Jerrypalooza\nDANCE PARTY on March 3. It’s FREE! Featuring Jerry Kovarsky on keys and Sheryl Renee and Shea Derrick backed by all stars.\nNo reservations or advanced seating\, first come first served.\n			\n				All Shows & Events
URL:https://mulligansontheblue.com/event/jerrypalooza/
LOCATION:Mulligans On The Blue\, 100 Kaukahi St.\, Kihei\, HI\, 96753\, United States
CATEGORIES:Live Music
ATTACH;FMTTYPE=image/jpeg:https://mulligansontheblue.com/wp-content/uploads/2026/02/DANCE-POSTER.jpeg
END:VEVENT
BEGIN:VEVENT
DTSTART;TZID=Pacific/Honolulu:20260306T180000
DTEND;TZID=Pacific/Honolulu:20260306T200000
DTSTAMP:20260423T045818
CREATED:20260223T054704Z
LAST-MODIFIED:20260303T004826Z
UID:6859-1772820000-1772827200@mulligansontheblue.com
SUMMARY:Cheryl Rae
DESCRIPTION:Cheryl Rae & Steve Grimes\n \nSinger\, songwriter\, and performer Cheryl Rae has been performing for over 25 years and has shared the stage with and opened for Kris Kristofferson\, Willie Nelson\, Mick Fleetwood\, Henry Kapono\, and many other talented and incredible musicians.\nThe $5 cover supports live music.\nReservations are recommended!\n			\n				MAKE RESERVATION\n			\n				All Shows & Events
URL:https://mulligansontheblue.com/event/cheryl-rae-steve-grimes/
LOCATION:Mulligans On The Blue\, 100 Kaukahi St.\, Kihei\, HI\, 96753\, United States
CATEGORIES:Live Music
ATTACH;FMTTYPE=image/jpeg:https://mulligansontheblue.com/wp-content/uploads/2026/02/Cheryl_Steve600-1.jpg
END:VEVENT
BEGIN:VEVENT
DTSTART;TZID=Pacific/Honolulu:20260313T180000
DTEND;TZID=Pacific/Honolulu:20260313T200000
DTSTAMP:20260423T045818
CREATED:20260223T042915Z
LAST-MODIFIED:20260223T043039Z
UID:6850-1773424800-1773432000@mulligansontheblue.com
SUMMARY:Jamie Lawerence
DESCRIPTION:Jamie Lawrence\nMulligans On The Blue is thrilled to welcome Jamie Lawrence back to the Mulligans Music Box stage on Saturday\, March 13th\, from 6-8pm. Jamie Lawrence was born on Maui and has been entertaining the island for over 40 years with his magical voice and beautiful guitar playing.\nJamie has recorded several albums and has performed with many of Hawaiiʻs great entertainers\, including his good friend Kealiʻi Reichel\, performing together at the Maui Lu in the 80s. Kealiʻi went on to record some of Hawaiiʻs greatest albums\, each of which Jamie was honored to participate in. Aside from Jamie’s incredible music\, he is also a talented helicopter pilot.\nDinner seating starts at 5:00pm and music begins at 6:00pm. Table reservations are recommended!\n*There are a limited number of tables in the music box that are ADA / wheelchair accessible. They are available on a first come first served basis by anyone. Should there be a need to move guests to make room for someone with a wheelchair\, management may ask to move a patron to accommodate said guest. \n			\n				Make Reservations\n			\n				All Shows & Events
URL:https://mulligansontheblue.com/event/jamie-lawerence/
LOCATION:Mulligans On The Blue\, 100 Kaukahi St.\, Kihei\, HI\, 96753\, United States
CATEGORIES:Live Music
ATTACH;FMTTYPE=image/jpeg:https://mulligansontheblue.com/wp-content/uploads/2026/02/03.13.25-jamieL600-1.jpg
END:VEVENT
BEGIN:VEVENT
DTSTART;TZID=Pacific/Honolulu:20260317T110000
DTEND;TZID=Pacific/Honolulu:20260317T220000
DTSTAMP:20260423T045818
CREATED:20260305T183506Z
LAST-MODIFIED:20260307T161349Z
UID:6882-1773745200-1773784800@mulligansontheblue.com
SUMMARY:St Paddy's Day 2026 - Mulligans on The Blue
DESCRIPTION:Mulligans on the Blue Presents St Paddy’s Day 2026!\nJoin us on Tuesday\, March 17th\, for an amazing lineup of music\, Irish food\, contests\, family fun\, and more.\nDetailsDOORS OPEN 11amNO COVER BEFORE 12PMADMISSION IS $20 in advance\, $25 AT DOORFREE T-SHIRT for the FIRST 100 PAYING CUSTOMERSMAKE YOUR RESERVATION ON OPEN TABLE FOR $20 ADMISSION!\nCome ready for fun!BEST LEPRECHAUN COMPETITIONBEST HAT COMPETITIONBEST GREEN OUTFITALL IRISH FOOD\nSt. Patty’s Day Entertainment Line-Up12PM-2PM | CELTIC HEARTSFrom Oahu Traditional Irish Music Band2PM | PETE SEBASTIAN TRIO3PM | DIVIDED BY 2U2 Tribute4PM-7 PM | THE CELTIC TIGERS7.30-10PM | THE ROUNDABOUTS\nMAKE YOUR RESERVATION ON OPEN TABLE FOR $20 ADMISSION!\n\n			\n				Reservations Here\n			\n			\n				\n				\n				\n				\n			\n				\n				\n				\n				\n				\n				\n				All Shows & Events
URL:https://mulligansontheblue.com/event/st-paddys-day-2026-mulligans-on-the-blue/
LOCATION:HI
CATEGORIES:Live Music
ATTACH;FMTTYPE=image/jpeg:https://mulligansontheblue.com/wp-content/uploads/2026/03/PaddysDaySqr600.jpg
END:VEVENT
BEGIN:VEVENT
DTSTART;TZID=Pacific/Honolulu:20260328T190000
DTEND;TZID=Pacific/Honolulu:20260328T220000
DTSTAMP:20260423T045818
CREATED:20260228T202413Z
LAST-MODIFIED:20260228T202536Z
UID:6867-1774724400-1774735200@mulligansontheblue.com
SUMMARY:Rowdy Fest 2026
DESCRIPTION:AG Presents and Rowdy Love bring you ROWDY FEST 2026. The event will be held at Mulligans on the Blue on Saturday\, March 28th\, and features an amazing lineup of music with the debut of Citrus Mission\, along with Flat Jackson\, and of course Rowdy Love. The Dance floor will be open!!!\n“Love doesn’t always come easy and neither does being in a band playing mostly original music. Rowdy Fest is an annual celebration of originality\, reunion\, and love overall through the raucous energy of rock’n roll.\nOriginally established as an on-stage wedding between the founding members of the band Rowdy Love\, this tradition carries on to reunite the band Flat Jackson and give fresh wings to bands that haven’t graced the stage together in a while. In this year’s case the epic compilation of human musicians that play as Citrus Mission will be headlining.\nThis bill is guaranteed to pack the dancefloor from start to finish and to help you sweat out the toxicities that have been weighing down your soul.”\nWeʻre expecting a full house so grab your tickets early. Dancefloor inside\n\nEarlybird Tickets are $20 (Limited Qty)\nGeneral Tickets $25\nDay of Show Tickets are $30\nDoors Open at 6:00pm\n\nShow Starts at 7:00pm\nROWDY LOVE – 7PM \nFLAT JACKSON – 8PM \nCITRUS MISSION – 9PM \nCITRUS MISSION: Citrus Mission serves up a joy-forward groove with just the right amount of zest. Living halfway between the dance floor and the front porch they bring funky poppy rock with a playful\, slightly nerdy sparkle. From Arkansas to Maui\, Citrus Mission was crafted for the loose-hipped\, big-hearted folks that are prepared to bring their happy feet. Dancy. Fun. Playful. Campfire on a stage to melt your marshmallows. They’re delighted to open Rowdy Fest 2026 and keep the night freshly squeezed.\nFLAT JACKSON:  Flat Jackson started out as a bluegrass band but then morphed into…something else. No doubt that rootsy quality comes through\, kinda like someone dropped an anvil on Bill Monroe’s foot\, but essentially the range of influences have rendered the band genre-less. They’ve heard folks describe them as Slamgrass\, a term in which they embraced. Their music holds elements of reggae\, folk\, rock (both southern and northern)\, blues\, punk\, funk and just about everything else coagulate into a sound as unique as the island they call home.\nROWDY LOVE: Aaron Jernigan and Stina Lynn are wild souls who met on a little farm in Haiku\, Hawai’i over a decade ago. On that first meeting\, they wailed away on their guitars singing covers that they both knew by Mississippi John Hurt\, Johnny Cash\, John Prine\, and Gillian Welch. Seeing as they both had the same taste in music they decided t ot start singing tunes together at parties and potlucks. A few years later they ventured out into another realm of genius and wrote their first song together. Sitting at a kitchen table with a bottle of wine\, whiskey\, strawberries\, and a bowl of cigarettes\, they had their firstborn song and named it Rowdy Love. It was a hit\, and alas Rowdy Love duo was birthed into this world! Joined by their amazing band\, Jonas\, Paul and Clint\, the music will take you on a sonic journey through Americana\, Ska\, Rock-A-Billy and with a punk edge.\n \n\n\nAvailable seating is first come first serve at Mulligans. Your ticket doesn’t guarantee a seat. All sales final – rain or shine \n\n\n			\n				Buy Tickets\n			\n				\n				\n				\n				\n				\n			\n				\n				\n				\n				\n				\n			\n				\n				\n				\n				\n				\n			\n			\n				\n				\n				\n				\n			\n				\n				\n				\n				\n				\n				\n				All Shows & Events
URL:https://mulligansontheblue.com/event/rowdyfest-2026/
LOCATION:Mulligans On The Blue\, 100 Kaukahi St.\, Kihei\, HI\, 96753\, United States
CATEGORIES:Live Music
ATTACH;FMTTYPE=image/jpeg:https://mulligansontheblue.com/wp-content/uploads/2026/02/Rowdyfest2026_SQR600.jpg
END:VEVENT
END:VCALENDAR